BEGIN:VCALENDAR
VERSION:2.0
PRODID:icalendar-ruby
CALSCALE:GREGORIAN
BEGIN:VEVENT
DTSTAMP:20191220T020131Z
UID:9adcf664-64ab-49fd-ae6c-9b64e65433af
DTSTART:20191217T110000Z
DTEND:20191218T110000Z
DESCRIPTION:
LOCATION:
SUMMARY:LAST DAY OF TERM 4
URL:
END:VEVENT
END:VCALENDAR
