BEGIN:VCALENDAR
VERSION:2.0
PRODID:icalendar-ruby
CALSCALE:GREGORIAN
BEGIN:VEVENT
DTSTAMP:20191220T020133Z
UID:5f978390-aaf2-417e-b50e-87ef4ca5a1e1
DTSTART:20191225T110000Z
DTEND:20191226T110000Z
DESCRIPTION:Actual times to be confirmed
LOCATION:
SUMMARY:HB Primary Triathlon
URL:
END:VEVENT
END:VCALENDAR
