BEGIN:VCALENDAR
VERSION:2.0
PRODID:icalendar-ruby
CALSCALE:GREGORIAN
BEGIN:VEVENT
DTSTAMP:20191220T020126Z
UID:ca982b9e-d1d2-4cf1-9863-d928cd98bfd3
DTSTART:20191201T201500Z
DTEND:20191201T211501Z
DESCRIPTION:
LOCATION:Reignier Hall
SUMMARY:Year 5&6 Poetry Recitation Finals
URL:
END:VEVENT
END:VCALENDAR
