BEGIN:VCALENDAR
VERSION:2.0
PRODID:icalendar-ruby
CALSCALE:GREGORIAN
BEGIN:VEVENT
DTSTAMP:20191220T020132Z
UID:ed87ca9c-5c09-4e7f-aeaf-b722003968dc
DTSTART:20191217T220000Z
DTEND:20191217T230001Z
DESCRIPTION:Children will be collected from St Mary's church
LOCATION:St Mary's Church
SUMMARY:End of Year Mass
URL:
END:VEVENT
END:VCALENDAR
