BEGIN:VCALENDAR
VERSION:2.0
PRODID:icalendar-ruby
CALSCALE:GREGORIAN
BEGIN:VEVENT
DTSTAMP:20191220T020130Z
UID:512a967b-4dc1-4d1c-96cf-e37e844eacb9
DTSTART:20191216T050000Z
DTEND:20191216T060001Z
DESCRIPTION:St Mary's Church
LOCATION:
SUMMARY:School Prizegiving and Christmas Tableau Evening
URL:
END:VEVENT
END:VCALENDAR
