BEGIN:VCALENDAR
VERSION:2.0
PRODID:icalendar-ruby
CALSCALE:GREGORIAN
BEGIN:VEVENT
DTSTAMP:20191220T020128Z
UID:af002781-5771-492f-98d6-fe57a7d1217a
DTSTART:20191202T200000Z
DTEND:20191202T210001Z
DESCRIPTION:Year 6\nTime to be advised
LOCATION:
SUMMARY:Leavers Dinner
URL:
END:VEVENT
END:VCALENDAR
